BEGIN:VCALENDAR
VERSION:2.0
PRODID:-//Sabre//Sabre VObject 4.5.7//EN
CALSCALE:GREGORIAN
BEGIN:VEVENT
UID:sabre-vobject-6cf7d381-eeef-4e34-aba8-70bbad46820b
DTSTAMP:20260425T195109Z
SUMMARY:Sitzung des Jugendhilfeausschusses
DTSTART;TZID=Europe/Berlin:20260513T170000
DTEND;TZID=Europe/Berlin:20260513T190000
ORGANIZER;CN=Jugendhilfeausschuss:MAILTO:no-reply@kreis-rendsburg-eckernfoe
 rde.de
LOCATION:Kreishaus\, Kaiserstraße 8\, Rendsburg
GEO:54.2975653;9.6694633
BEGIN:VALARM
TRIGGER;VALUE=DURATION:P1D
ACTION:DISPLAY
DESCRIPTION:Sitzung des Jugendhilfeausschusses
END:VALARM
END:VEVENT
END:VCALENDAR
