BEGIN:VCALENDAR
VERSION:2.0
PRODID:-//Sabre//Sabre VObject 4.5.7//EN
CALSCALE:GREGORIAN
BEGIN:VEVENT
UID:sabre-vobject-77d75105-7e67-4c05-bd3d-5388fdfaf592
DTSTAMP:20260425T195109Z
SUMMARY:Sitzung des Hauptausschusses
DTSTART;TZID=Europe/Berlin:20260521T170000
DTEND;TZID=Europe/Berlin:20260521T193000
ORGANIZER;CN=Hauptausschuss:MAILTO:no-reply@kreis-rendsburg-eckernfoerde.de
LOCATION:Kreishaus\, Kaiserstraße 8\, Rendsburg
GEO:54.2975653;9.6694633
BEGIN:VALARM
TRIGGER;VALUE=DURATION:P1D
ACTION:DISPLAY
DESCRIPTION:Sitzung des Hauptausschusses
END:VALARM
END:VEVENT
END:VCALENDAR
