BEGIN:VCALENDAR
VERSION:2.0
PRODID:-//Sabre//Sabre VObject 4.5.7//EN
CALSCALE:GREGORIAN
BEGIN:VEVENT
UID:sabre-vobject-c13591c2-578d-4ada-9321-766edfd16ef3
DTSTAMP:20260424T144029Z
SUMMARY:Sitzung des Regionalentwicklungsausschusses
DTSTART;TZID=Europe/Berlin:20260610T170000
DTEND;TZID=Europe/Berlin:20260610T193000
ORGANIZER;CN=Regionalentwicklungsausschuss:MAILTO:no-reply@kreis-rendsburg-
 eckernfoerde.de
LOCATION:Kreishaus\, Kaiserstraße 8\, Rendsburg
GEO:54.2975653;9.6694633
BEGIN:VALARM
TRIGGER;VALUE=DURATION:P1D
ACTION:DISPLAY
DESCRIPTION:Sitzung des Regionalentwicklungsausschusses
END:VALARM
END:VEVENT
END:VCALENDAR
